BEGIN:VCALENDAR
VERSION:2.0
PRODID:-//wp-events-plugin.com//7.2.3.1//EN
TZID:Europe/Berlin
X-WR-TIMEZONE:Europe/Berlin
BEGIN:VEVENT
UID:708@bz-kitzingen.de
DTSTART;TZID=Europe/Berlin:20240105T120000
DTEND;TZID=Europe/Berlin:20240105T143000
DTSTAMP:20230825T042633Z
URL:https://www.bz-kitzingen.de/events/suppentag-im-buergerzentrum-2024-01
 -05/
SUMMARY:Wärmewinter im Bürgerzentrum
DESCRIPTION:Aktion Wärmewinter: Jeden Freitag eine Suppe kostenlos\, solan
 ge Vorrat reicht.\n\n12:00 - 14.30 Uhr\, Kuchenspenden(keine Cremekuchen) 
 erwünscht.
ATTACH;FMTTYPE=image/jpeg:https://www.bz-kitzingen.de/wp-content/uploads/2
 022/11/suppe_pixabay.jpg
END:VEVENT
BEGIN:VTIMEZONE
TZID:Europe/Berlin
X-LIC-LOCATION:Europe/Berlin
BEGIN:STANDARD
DTSTART:20231029T020000
TZOFFSETFROM:+0200
TZOFFSETTO:+0100
TZNAME:CET
END:STANDARD
END:VTIMEZONE
END:VCALENDAR