BEGIN:VCALENDAR
VERSION:2.0
PRODID:-//wp-events-plugin.com//7.2.3.1//EN
TZID:Europe/Berlin
X-WR-TIMEZONE:Europe/Berlin
BEGIN:VEVENT
UID:140@bz-kitzingen.de
DTSTART;TZID=Europe/Berlin:20230120T120000
DTEND;TZID=Europe/Berlin:20230120T133000
DTSTAMP:20230115T095339Z
URL:https://www.bz-kitzingen.de/events/suppentag-im-buergerzentrum-2023-01
 -20/
SUMMARY:Mittagessen im Bürgerzentrum
DESCRIPTION:Einmal im Monat ein kostenloses leckeres Mittagessen. Nur solan
 ge Vorrat reicht.
ATTACH;FMTTYPE=image/jpeg:https://www.bz-kitzingen.de/wp-content/uploads/2
 022/11/mittagessen.jpg
END:VEVENT
BEGIN:VTIMEZONE
TZID:Europe/Berlin
X-LIC-LOCATION:Europe/Berlin
BEGIN:STANDARD
DTSTART:20221030T020000
TZOFFSETFROM:+0200
TZOFFSETTO:+0100
TZNAME:CET
END:STANDARD
END:VTIMEZONE
END:VCALENDAR