BEGIN:VCALENDAR
VERSION:2.0
PRODID:-//wp-events-plugin.com//7.2.3.1//EN
TZID:Europe/Berlin
X-WR-TIMEZONE:Europe/Berlin
BEGIN:VEVENT
UID:117@bz-kitzingen.de
DTSTART;TZID=Europe/Berlin:20221011T190000
DTEND;TZID=Europe/Berlin:20221011T210000
DTSTAMP:20220930T051056Z
URL:https://www.bz-kitzingen.de/events/spieletreff-3/
SUMMARY:Spieletreff
DESCRIPTION:Offener Spieletreff\, Spiele sind vorhanden. Oder bringen Sie I
 hre eigenen Spiele mit. In der Bürgerstube. email: spiele@bz-kitzingen.de
ATTACH;FMTTYPE=image/jpeg:https://www.bz-kitzingen.de/wp-content/uploads/2
 022/09/spiele-scaled.jpg
END:VEVENT
BEGIN:VTIMEZONE
TZID:Europe/Berlin
X-LIC-LOCATION:Europe/Berlin
BEGIN:DAYLIGHT
DTSTART:20220327T030000
TZOFFSETFROM:+0100
TZOFFSETTO:+0200
TZNAME:CEST
END:DAYLIGHT
END:VTIMEZONE
END:VCALENDAR