BEGIN:VCALENDAR
VERSION:2.0
PRODID:-//wp-events-plugin.com//7.2.3.1//EN
TZID:Europe/Berlin
X-WR-TIMEZONE:Europe/Berlin
BEGIN:VEVENT
UID:1688@bz-kitzingen.de
DTSTART;TZID=Europe/Berlin:20261201T193000
DTEND;TZID=Europe/Berlin:20261201T193000
DTSTAMP:20251130T075914Z
URL:https://www.bz-kitzingen.de/events/spieletreff-3-2026-02-03-2026-03-03
 -2026-04-07-2026-05-05-2026-06-02-2026-07-07-2026-08-04-2026-09-01-2026-10
 -06-2026-11-03-2026-12-01/
SUMMARY:Spieletreff
DESCRIPTION:Offener Spieltreff\, Spiele sind vorhanden. Oder bringen Sie Ih
 re eigenen Spiele mit. In der Bürgerstube. Jeder erste Dienstag im Monat.
  Email: spiele@bz-kitzingen.de
ATTACH;FMTTYPE=image/jpeg:https://www.bz-kitzingen.de/wp-content/uploads/2
 022/09/spiele-scaled.jpg
END:VEVENT
BEGIN:VTIMEZONE
TZID:Europe/Berlin
X-LIC-LOCATION:Europe/Berlin
BEGIN:STANDARD
DTSTART:20261025T020000
TZOFFSETFROM:+0200
TZOFFSETTO:+0100
TZNAME:CET
END:STANDARD
END:VTIMEZONE
END:VCALENDAR