BEGIN:VCALENDAR
VERSION:2.0
PRODID:-//wp-events-plugin.com//7.2.3.1//EN
TZID:Europe/Berlin
X-WR-TIMEZONE:Europe/Berlin
BEGIN:VEVENT
UID:1191@bz-kitzingen.de
DTSTART;TZID=Europe/Berlin:20250709T140000
DTEND;TZID=Europe/Berlin:20250709T160000
DTSTAMP:20250610T024231Z
URL:https://www.bz-kitzingen.de/events/seniorencafe-2025-07-09/
SUMMARY:Seniorencafé
DESCRIPTION:Bitte Beachten: Das Das Seniorenkaffee findet einmalig in Koope
 ration mit der AWO Tagespflege im ehemaligen Storg Gebäude statt.\n\nDas 
 Seniorenkaffee - Kuchen\, Kaffee\, Tee kostenfrei - wird immer am 2. Mittw
 och im Monat von 14 - 16 Uhr angeboten. Das Bürgerzentrum\, die ehrenamtl
 ichen Organisatorinnen Jutta Heinlein und Bärbel Feser freuen sich über 
 Ihren Besuch und laden herzlich ein. Email: seniorencafe@bz-kitzingen.de
ATTACH;FMTTYPE=image/jpeg:https://www.bz-kitzingen.de/wp-content/uploads/2
 024/03/Seniorenkaffee-2-scaled.jpg
END:VEVENT
BEGIN:VTIMEZONE
TZID:Europe/Berlin
X-LIC-LOCATION:Europe/Berlin
BEGIN:DAYLIGHT
DTSTART:20250330T030000
TZOFFSETFROM:+0100
TZOFFSETTO:+0200
TZNAME:CEST
END:DAYLIGHT
END:VTIMEZONE
END:VCALENDAR