BEGIN:VCALENDAR
VERSION:2.0
PRODID:-//wp-events-plugin.com//7.2.3.1//EN
TZID:Europe/Berlin
X-WR-TIMEZONE:Europe/Berlin
BEGIN:VEVENT
UID:1614@bz-kitzingen.de
DTSTART;TZID=Europe/Berlin:20261007T140000
DTEND;TZID=Europe/Berlin:20261007T160000
DTSTAMP:20251014T024740Z
URL:https://www.bz-kitzingen.de/events/seniorencafe-2-2026-10-07/
SUMMARY:Seniorencafé
DESCRIPTION:Das Seniorenkaffee - Kuchen\, Kaffee\, Tee kostenfrei - wird im
 mer am 1. Mittwoch im Monat von 14 - 16 Uhr angeboten. Das Bürgerzentrum\
 , die ehrenamtlichen Organisatorinnen Jutta Heinlein und Bärbel Feser fre
 uen sich über Ihren Besuch und laden herzlich ein. Email: seniorencafe@bz
 -kitzingen.de
ATTACH;FMTTYPE=image/jpeg:https://www.bz-kitzingen.de/wp-content/uploads/2
 024/03/Seniorenkaffee-2-scaled.jpg
END:VEVENT
BEGIN:VTIMEZONE
TZID:Europe/Berlin
X-LIC-LOCATION:Europe/Berlin
BEGIN:DAYLIGHT
DTSTART:20260329T030000
TZOFFSETFROM:+0100
TZOFFSETTO:+0200
TZNAME:CEST
END:DAYLIGHT
END:VTIMEZONE
END:VCALENDAR