BEGIN:VCALENDAR
VERSION:2.0
PRODID:-//wp-events-plugin.com//7.2.3.1//EN
TZID:Europe/Berlin
X-WR-TIMEZONE:Europe/Berlin
BEGIN:VEVENT
UID:1412@bz-kitzingen.de
DTSTART;TZID=Europe/Berlin:20250328T170000
DTEND;TZID=Europe/Berlin:20250328T183000
DTSTAMP:20250225T052503Z
URL:https://www.bz-kitzingen.de/events/poi-schwingen-verbindung-von-musik-
 und-bewegung-2/
SUMMARY:Poi Schwingen - Verbindung von Musik und Bewegung
DESCRIPTION:\n\nPoi Schwingen – die traumhafte Verbindung von Musik und B
 ewegung\n\nKooperationsprojekt mit Klaus Scheuermann im Bürgerzentrum Kit
 zingen (Schrannenstr. 35).\n\nMit Hilfe des Konzeptes Bewegung-Name-Notati
 on und des zugehörigen Stufenmodells von Klaus Scheuermann lernen Sie in 
 diesem Workshop innerhalb kürzester Zeit eine Choreographie zum Poi-Schwi
 ngen. Poi-Schwingen ist eine Form des Lernens\, welche den Lernenden sehr 
 viel Spaß macht.\n\nFür Kinder ab 6 Jahren\, Jugendliche und Erwachsene!
 \n\nNähere Infos und Anmeldung unter: mgh.kitzingen@caritas-einrichtungen
 .de oder 09321/9165422\n\n
ATTACH;FMTTYPE=image/jpeg:https://www.bz-kitzingen.de/wp-content/uploads/2
 025/02/POI-Schwingen.jpg
END:VEVENT
BEGIN:VTIMEZONE
TZID:Europe/Berlin
X-LIC-LOCATION:Europe/Berlin
BEGIN:STANDARD
DTSTART:20241027T020000
TZOFFSETFROM:+0200
TZOFFSETTO:+0100
TZNAME:CET
END:STANDARD
END:VTIMEZONE
END:VCALENDAR