BEGIN:VCALENDAR
VERSION:2.0
PRODID:-//wp-events-plugin.com//7.2.3.1//EN
TZID:Europe/Berlin
X-WR-TIMEZONE:Europe/Berlin
BEGIN:VEVENT
UID:1672@bz-kitzingen.de
DTSTART;TZID=Europe/Berlin:20251127T180000
DTEND;TZID=Europe/Berlin:20251127T210000
DTSTAMP:20251031T123557Z
URL:https://www.bz-kitzingen.de/events/netzwerktreffen-kultur-28/
SUMMARY:Netzwerktreffen Kultur
DESCRIPTION:Das Netzwerktreffen für Kunstschaffende aus dem Landkreis Kitz
 ingen. Kommen Sie gerne vorbei. Schrannenstr. 35\, 97318 Kitzingen\n\npost
 @bz-kitzingen.de
ATTACH;FMTTYPE=image/jpeg:https://www.bz-kitzingen.de/wp-content/uploads/2
 022/08/netzwerk-Kultur-logo_claut_peter_berneth.jpg
END:VEVENT
BEGIN:VTIMEZONE
TZID:Europe/Berlin
X-LIC-LOCATION:Europe/Berlin
BEGIN:STANDARD
DTSTART:20251026T020000
TZOFFSETFROM:+0200
TZOFFSETTO:+0100
TZNAME:CET
END:STANDARD
END:VTIMEZONE
END:VCALENDAR