BEGIN:VCALENDAR
VERSION:2.0
PRODID:-//wp-events-plugin.com//7.2.3.1//EN
TZID:Europe/Berlin
X-WR-TIMEZONE:Europe/Berlin
BEGIN:VEVENT
UID:1059@bz-kitzingen.de
DTSTART;TZID=Europe/Berlin:20240326T180000
DTEND;TZID=Europe/Berlin:20240326T200000
DTSTAMP:20240325T033114Z
URL:https://www.bz-kitzingen.de/events/netzwerktreffen-kultur-14/
SUMMARY:Netzwerktreffen Kultur
DESCRIPTION:Das Netzwerktreffen für Kunstschaffende. post@bz-kitzingen.de\
 n\n&nbsp\;
ATTACH;FMTTYPE=image/jpeg:https://www.bz-kitzingen.de/wp-content/uploads/2
 022/08/netzwerk-Kultur-logo_claut_peter_berneth.jpg
END:VEVENT
BEGIN:VTIMEZONE
TZID:Europe/Berlin
X-LIC-LOCATION:Europe/Berlin
BEGIN:STANDARD
DTSTART:20231029T020000
TZOFFSETFROM:+0200
TZOFFSETTO:+0100
TZNAME:CET
END:STANDARD
END:VTIMEZONE
END:VCALENDAR