BEGIN:VCALENDAR
VERSION:2.0
PRODID:-//wp-events-plugin.com//7.2.3.1//EN
TZID:Europe/Berlin
X-WR-TIMEZONE:Europe/Berlin
BEGIN:VEVENT
UID:1584@bz-kitzingen.de
DTSTART;TZID=Europe/Berlin:20260527T190000
DTEND;TZID=Europe/Berlin:20260527T220000
DTSTAMP:20251012T055958Z
URL:https://www.bz-kitzingen.de/events/musikerinnen-stammtisch-2-2026-05-2
 7/
SUMMARY:MusikerInnen Stammtisch
DESCRIPTION:Treff für alle interessierten Musizierenden. Austausch\, Verne
 tzung\, neue Formate entwickeln. Anmeldung: musikstammtisch@region-kitzing
 en.de
ATTACH;FMTTYPE=image/jpeg:https://www.bz-kitzingen.de/wp-content/uploads/2
 024/01/Musik_pixabay.jpg
END:VEVENT
BEGIN:VTIMEZONE
TZID:Europe/Berlin
X-LIC-LOCATION:Europe/Berlin
BEGIN:DAYLIGHT
DTSTART:20260329T030000
TZOFFSETFROM:+0100
TZOFFSETTO:+0200
TZNAME:CEST
END:DAYLIGHT
END:VTIMEZONE
END:VCALENDAR