BEGIN:VCALENDAR
VERSION:2.0
PRODID:-//wp-events-plugin.com//7.2.3.1//EN
TZID:Europe/Berlin
X-WR-TIMEZONE:Europe/Berlin
BEGIN:VEVENT
UID:1488@bz-kitzingen.de
DTSTART;TZID=Europe/Berlin:20260213T120000
DTEND;TZID=Europe/Berlin:20260213T140000
DTSTAMP:20251015T155524Z
URL:https://www.bz-kitzingen.de/events/mitagessen-im-buergerzentrum-2026-0
 2-13/
SUMMARY:Mittagessen im Bürgerzentrum
DESCRIPTION:Jeden Freitag Mittagessen im Bürgerzentrum. Nicht am Feiertag.
  Kostenlos und solange Vorrat reicht. Herzlich Willkommen.
ATTACH;FMTTYPE=image/jpeg:https://www.bz-kitzingen.de/wp-content/uploads/2
 024/10/Brandheiss.jpg
END:VEVENT
BEGIN:VTIMEZONE
TZID:Europe/Berlin
X-LIC-LOCATION:Europe/Berlin
BEGIN:STANDARD
DTSTART:20251026T020000
TZOFFSETFROM:+0200
TZOFFSETTO:+0100
TZNAME:CET
END:STANDARD
END:VTIMEZONE
END:VCALENDAR