BEGIN:VCALENDAR
VERSION:2.0
PRODID:-//wp-events-plugin.com//7.2.3.1//EN
TZID:Europe/Berlin
X-WR-TIMEZONE:Europe/Berlin
BEGIN:VEVENT
UID:1720@bz-kitzingen.de
DTSTART;TZID=Europe/Berlin:20260314T190000
DTEND;TZID=Europe/Berlin:20260314T220000
DTSTAMP:20260208T052634Z
URL:https://www.bz-kitzingen.de/events/konzert-von-dots-arrow/
SUMMARY:Konzert von Dots & Arrow
DESCRIPTION:Das Quartett Dots&amp\;Arrow verbindet eine lange Freundschaft.
  Zum ersten Mal stehen die vier Musiker:innen aus Würzburg\, Nürnberg un
 d Leipzig gemeinsam auf der Bühne. Das frisch formierte Ensemble besteht 
 aus einem traditionell besetzten Jazz-Trio mit der Bassistin Sabrina Damia
 ni\, dem Pianisten Frank Adelt und dem Schlagzeuger Ludwig Buschendorf. Mi
 t der Sängerin Julia Damiani fusionieren sie zu einem Quartett\, in dem s
 ie ihre langjährigen Erfahrungen aus Modern Jazz\, traditionellem Jazz un
 d der Rock- und Pop-Musik verbinden. In eingängigen Melodien\, jazzigen g
 rooves und modernen Harmonien zeigen Dots&amp\;Arrow dabei einen ausdrucks
 starken Sound\, der sich durch große Spielfreude\, Virtuosität und\nInti
 mität auszeichnet. Während ihnen Herausforderungen des Alltags und pers
 önliche Erfahrungen als\nInspirationsquelle dienen transportieren ihre So
 ngs auf deutsch oder englisch parabelhaft Sehnsucht und Leichtigkeit. Mit 
 ihrem Debüt lädt Dots&amp\;Arrow zu einem Konzerterlebnis sonniger Heite
 rkeit\, natürlicher Frische und mitreißender Leidenschaft ein
ATTACH;FMTTYPE=image/jpeg:https://www.bz-kitzingen.de/wp-content/uploads/2
 026/02/DotsundArrow.jpg
END:VEVENT
BEGIN:VTIMEZONE
TZID:Europe/Berlin
X-LIC-LOCATION:Europe/Berlin
BEGIN:STANDARD
DTSTART:20251026T020000
TZOFFSETFROM:+0200
TZOFFSETTO:+0100
TZNAME:CET
END:STANDARD
END:VTIMEZONE
END:VCALENDAR