BEGIN:VCALENDAR
VERSION:2.0
PRODID:-//wp-events-plugin.com//7.2.3.1//EN
TZID:Europe/Berlin
X-WR-TIMEZONE:Europe/Berlin
BEGIN:VEVENT
UID:1156@bz-kitzingen.de
DTSTART;TZID=Europe/Berlin:20241018T190000
DTEND;TZID=Europe/Berlin:20241018T220000
DTSTAMP:20240916T035159Z
URL:https://www.bz-kitzingen.de/events/konzert-purple-joe/
SUMMARY:Konzert - Purple Joe
DESCRIPTION:Purple Joe – Blues-Rock vom Feinsten\, das energiegeladene Tr
 io als „Must see“ im Bereich kultiger Blues-Rock-Acts. Bekannt von zah
 lreichen Open-Air-Festivals bietet Purple Joe ein breites Spektrum kultige
 r Songs mit virtuosen Instrumentaleinlagen. Ihr Repertoire umfasst u.a. Kl
 assiker wie ZZ Top\, Jimi Hendrix\, Rolling Stones\, Rory Gallagher\, Stev
 ie Ray Vaughn\, Deep Purple u. v. m.
ATTACH;FMTTYPE=image/jpeg:https://www.bz-kitzingen.de/wp-content/uploads/2
 024/09/PurpleJoe.jpg
END:VEVENT
BEGIN:VTIMEZONE
TZID:Europe/Berlin
X-LIC-LOCATION:Europe/Berlin
BEGIN:DAYLIGHT
DTSTART:20240331T030000
TZOFFSETFROM:+0100
TZOFFSETTO:+0200
TZNAME:CEST
END:DAYLIGHT
END:VTIMEZONE
END:VCALENDAR