BEGIN:VCALENDAR
VERSION:2.0
PRODID:-//wp-events-plugin.com//7.2.3.1//EN
TZID:Europe/Berlin
X-WR-TIMEZONE:Europe/Berlin
BEGIN:VEVENT
UID:1408@bz-kitzingen.de
DTSTART;TZID=Europe/Berlin:20250214T190000
DTEND;TZID=Europe/Berlin:20250214T220000
DTSTAMP:20250204T095907Z
URL:https://www.bz-kitzingen.de/events/konzert-mit-jessica-kamm-und-jan-al
 l/
SUMMARY:Konzert mit Jessica Kamm & Jan All
DESCRIPTION:Das nächste Highlight steht fest. Es ist das Konzert von Jessi
 ca Kamm &amp\; Jan All\, die sich musikalisch vereint haben\, und am Valen
 tinstag 14. Februar 2025 ab 19 Uhr im Saal vom Bürgerzentrum das erste Ma
 l gemeinsam auftreten. Man darf auf die neue Kombination und die Lieder s
 chon jetzt sehr gespannt sein. Der 14.2. ist ja nicht nur Valentinstag son
 dern überhaupt der Tag der Freundschaft und Herzensmenschen. Also lassen 
 wir uns mal überraschen\, was sich da musikalisch zusammengefunden hat.\n
 Und das ist die neue Band: - auf dem Plakat v.l.n.r.\nLennart Schrauth - M
 ichael Bergmann-Strunz - Jan All - Jessica Kamm - Justus Ludewig und Bernh
 ard Ludewig.\nWir freuen uns auf viele Gäste!\nDer Eintritt ist natürlic
 h frei - wir freuen uns aber sehr über Spenden. DANKE.\n\n&nbsp\;
ATTACH;FMTTYPE=image/jpeg:https://www.bz-kitzingen.de/wp-content/uploads/2
 025/01/IMG-20250126-WA0003-aab.jpg
END:VEVENT
BEGIN:VTIMEZONE
TZID:Europe/Berlin
X-LIC-LOCATION:Europe/Berlin
BEGIN:STANDARD
DTSTART:20241027T020000
TZOFFSETFROM:+0200
TZOFFSETTO:+0100
TZNAME:CET
END:STANDARD
END:VTIMEZONE
END:VCALENDAR