BEGIN:VCALENDAR
VERSION:2.0
PRODID:-//wp-events-plugin.com//7.2.3.1//EN
TZID:Europe/Berlin
X-WR-TIMEZONE:Europe/Berlin
BEGIN:VEVENT
UID:1726@bz-kitzingen.de
DTSTART;TZID=Europe/Berlin:20260425T150000
DTEND;TZID=Europe/Berlin:20260425T170000
DTSTAMP:20260308T031520Z
URL:https://www.bz-kitzingen.de/events/kinder-klein-kunst-klub-tanzen/
SUMMARY:Kinder Klein Kunst Klub - Tanzen
DESCRIPTION:Tanzen mit Irmgard "Bring me down"  Anmeldung unter: post@bz-k
 itzingen.de oder Ticketsystem
ATTACH;FMTTYPE=image/jpeg:https://www.bz-kitzingen.de/wp-content/uploads/2
 023/05/kkkkk.jpg
END:VEVENT
BEGIN:VTIMEZONE
TZID:Europe/Berlin
X-LIC-LOCATION:Europe/Berlin
BEGIN:DAYLIGHT
DTSTART:20260329T030000
TZOFFSETFROM:+0100
TZOFFSETTO:+0200
TZNAME:CEST
END:DAYLIGHT
END:VTIMEZONE
END:VCALENDAR