BEGIN:VCALENDAR
VERSION:2.0
PRODID:-//wp-events-plugin.com//7.2.3.1//EN
TZID:Europe/Berlin
X-WR-TIMEZONE:Europe/Berlin
BEGIN:VEVENT
UID:775@bz-kitzingen.de
DTSTART;TZID=Europe/Berlin:20231111T140000
DTEND;TZID=Europe/Berlin:20231111T170000
DTSTAMP:20231105T143328Z
URL:https://www.bz-kitzingen.de/events/kinder-klein-kunst-klub-kitzingen-4
 /
SUMMARY:Kinder Klein Kunst Klub Kitzingen
DESCRIPTION:Der Kinder Kleinkunst Klub Kitzingen ist ein Ort\, an dem Kinde
 r ihre kreativen Talente entfalten können. Wir beginnen mit einem Karaoke
 -Workshop\, bei dem die jungen Teilnehmer ihre Gesangsfähigkeiten erkunde
 n können. Dies ist nur der Anfang\, denn wir haben noch viele spannende W
 orkshops geplant\, darunter Papiertheater\, Malen und Zaubern. Da die Teil
 nehmerzahl begrenzt ist\, empfehlen wir eine rechtzeitige Anmeldung\, entw
 eder auf unserer Webseite oder per E-Mail an kleinkunst@bz-kitzingen.de 
 – für Kinder zwischen 7 und 12 Jahren. Zusätzlich sind wir offen für 
 Unterstützung von engagierten Menschen\, die ihre Fähigkeiten und Leiden
 schaften mit den Kindern teilen möchten. Wenn Sie Interesse haben\, einen
  Workshop zu leiten oder bei der Aufsicht zu helfen\, zögern Sie nicht\, 
 sich bei uns zu melden. Ihre Unterstützung ist wertvoll für die Förderu
 ng von Talenten. Das Team vom Bürgerzentrum freut sich darauf\, gemeinsam
  mit den Kindern eine inspirierende und kreative Umgebung zu schaffen\, in
  der sie ihr Potenzial entfalten können. Der KKKKK wird vom Regionalmanag
 ement Leader gefördert.\n\nhttps://www.bz-kitzingen.de/kinder-klein-kunst
 -klub-kitzingen/
ATTACH;FMTTYPE=image/jpeg:https://www.bz-kitzingen.de/wp-content/uploads/2
 023/05/kkkkk.jpg
END:VEVENT
BEGIN:VTIMEZONE
TZID:Europe/Berlin
X-LIC-LOCATION:Europe/Berlin
BEGIN:STANDARD
DTSTART:20231029T020000
TZOFFSETFROM:+0200
TZOFFSETTO:+0100
TZNAME:CET
END:STANDARD
END:VTIMEZONE
END:VCALENDAR