BEGIN:VCALENDAR
VERSION:2.0
PRODID:-//wp-events-plugin.com//7.2.3.1//EN
TZID:Europe/Berlin
X-WR-TIMEZONE:Europe/Berlin
BEGIN:VEVENT
UID:52@bz-kitzingen.de
DTSTART;TZID=Europe/Berlin:20210924T190000
DTEND;TZID=Europe/Berlin:20210924T213000
DTSTAMP:20220528T044709Z
URL:https://www.bz-kitzingen.de/events/jahreshauptversammlung-vom-buergerz
 entrum-e-v/
SUMMARY:Jahreshauptversammlung vom Bürgerzentrum e.V.
DESCRIPTION:Jahreshauptversammlung des Vereins Bürgerzentrum e.V.
END:VEVENT
BEGIN:VTIMEZONE
TZID:Europe/Berlin
X-LIC-LOCATION:Europe/Berlin
BEGIN:DAYLIGHT
DTSTART:20210328T030000
TZOFFSETFROM:+0100
TZOFFSETTO:+0200
TZNAME:CEST
END:DAYLIGHT
END:VTIMEZONE
END:VCALENDAR