BEGIN:VCALENDAR
VERSION:2.0
PRODID:-//wp-events-plugin.com//7.2.3.1//EN
TZID:Europe/Berlin
X-WR-TIMEZONE:Europe/Berlin
BEGIN:VEVENT
UID:1445@bz-kitzingen.de
DTSTART;TZID=Europe/Berlin:20250924T150000
DTEND;TZID=Europe/Berlin:20250924T160000
DTSTAMP:20250624T083613Z
URL:https://www.bz-kitzingen.de/events/internet-treff-4-2025-09-03/
SUMMARY:Internet-Treff
DESCRIPTION:Jeden letzten Mittwoch im Monat 15 - 16:00 Uhr in der Bürgerst
 ube mit Digitallotsen. Sie haben Probleme mit Internet\, Smartphone\, Tabl
 ett und Laptop. Wir versuchen zu helfen. Keine Anmeldung erforderlich.
ATTACH;FMTTYPE=image/jpeg:https://www.bz-kitzingen.de/wp-content/uploads/2
 023/12/InternetTreff.jpg
END:VEVENT
BEGIN:VTIMEZONE
TZID:Europe/Berlin
X-LIC-LOCATION:Europe/Berlin
BEGIN:DAYLIGHT
DTSTART:20250330T030000
TZOFFSETFROM:+0100
TZOFFSETTO:+0200
TZNAME:CEST
END:DAYLIGHT
END:VTIMEZONE
END:VCALENDAR