BEGIN:VCALENDAR
VERSION:2.0
PRODID:-//wp-events-plugin.com//7.2.3.1//EN
TZID:Europe/Berlin
X-WR-TIMEZONE:Europe/Berlin
BEGIN:VEVENT
UID:571@bz-kitzingen.de
DTSTART;TZID=Europe/Berlin:20230321T160000
DTEND;TZID=Europe/Berlin:20230321T173000
DTSTAMP:20230203T035236Z
URL:https://www.bz-kitzingen.de/events/historische-bildershow-aus-kitzinge
 n-2/
SUMMARY:Historische Bildershow aus Kitzingen
DESCRIPTION:Jürgen Wolfarth zeigt einige Schätze seiner historischen Bild
 er aus Kitzingen. Der pensionierte Fotograf sammelt seit über 60 Jahren B
 ilder der Stadt Kitzingen. Alle historischen Bilder werden mit Bildern aus
  der Gegenwart verglichen. Die Veränderungen sind oft dramatisch. Der Ein
 tritt ist frei.
ATTACH;FMTTYPE=image/jpeg:https://www.bz-kitzingen.de/wp-content/uploads/2
 021/10/bz2_alt.jpg
END:VEVENT
BEGIN:VTIMEZONE
TZID:Europe/Berlin
X-LIC-LOCATION:Europe/Berlin
BEGIN:STANDARD
DTSTART:20221030T020000
TZOFFSETFROM:+0200
TZOFFSETTO:+0100
TZNAME:CET
END:STANDARD
END:VTIMEZONE
END:VCALENDAR