BEGIN:VCALENDAR
VERSION:2.0
PRODID:-//wp-events-plugin.com//7.2.3.1//EN
TZID:Europe/Berlin
X-WR-TIMEZONE:Europe/Berlin
BEGIN:VEVENT
UID:1149@bz-kitzingen.de
DTSTART;TZID=Europe/Berlin:20241026T180000
DTEND;TZID=Europe/Berlin:20241026T180000
DTSTAMP:20241022T033157Z
URL:https://www.bz-kitzingen.de/events/ehemalige-jugendhausgruppe1980-trif
 ft-sich/
SUMMARY:Revival Party - Ehemalige Jugendhausgruppen (um 1980)
DESCRIPTION:Die ehemaligen Jugendlichen von ca. 1980\, die im ehemaligen Ju
 gendhaus wirkten\, treffen sich im Bürgerzentrum\, um in alten Erinnerung
 en zu schwelgen. Gerne Bilder mitbringen. Kontakt: gabi.schmitt@bz-kitzing
 en.de. Mit der Band "Hang loose Trio".\n\nhttps://www.infranken.de/lk/gem/
 kitzingen/revival-party-mit-hang-loose-art-5935657\n\n
ATTACH;FMTTYPE=image/jpeg:https://www.bz-kitzingen.de/wp-content/uploads/2
 022/05/jugendhaus.jpg
END:VEVENT
BEGIN:VTIMEZONE
TZID:Europe/Berlin
X-LIC-LOCATION:Europe/Berlin
BEGIN:DAYLIGHT
DTSTART:20240331T030000
TZOFFSETFROM:+0100
TZOFFSETTO:+0200
TZNAME:CEST
END:DAYLIGHT
END:VTIMEZONE
END:VCALENDAR