BEGIN:VCALENDAR
VERSION:2.0
PRODID:-//wp-events-plugin.com//7.2.3.1//EN
TZID:Europe/Berlin
X-WR-TIMEZONE:Europe/Berlin
BEGIN:VEVENT
UID:757@bz-kitzingen.de
DTSTART;TZID=Europe/Berlin:20240306T150000
DTEND;TZID=Europe/Berlin:20240306T160000
DTSTAMP:20231029T105045Z
URL:https://www.bz-kitzingen.de/events/bastel-nachmittag-2024-03-06/
SUMMARY:Bastel Nachmittag
DESCRIPTION:Wir basteln jeden Mittwoch (außer letzten Mittwoch im Monat) i
 m Wärmewinter mit ihnen tolle Sachen. Anmeldung ist nicht erforderlich. B
 ringen sie gerne Ideen und Material mit ein.
ATTACH;FMTTYPE=image/jpeg:https://www.bz-kitzingen.de/wp-content/uploads/2
 022/09/Froebelsterne_pixabay.jpg
END:VEVENT
BEGIN:VTIMEZONE
TZID:Europe/Berlin
X-LIC-LOCATION:Europe/Berlin
BEGIN:STANDARD
DTSTART:20231029T020000
TZOFFSETFROM:+0200
TZOFFSETTO:+0100
TZNAME:CET
END:STANDARD
END:VTIMEZONE
END:VCALENDAR